BEGIN:VCALENDAR
VERSION:2.0
PRODID:spatie/icalendar-generator
NAME: AI nástroje pro lídry škol
X-WR-CALNAME: AI nástroje pro lídry škol
DESCRIPTION: AI nástroje pro lídry škol
X-WR-CALDESC: AI nástroje pro lídry škol
BEGIN:VEVENT
UID:87
SUMMARY: AI nástroje pro lídry škol
DESCRIPTION: AI nástroje pro lídry škol
LOCATION:Pražský inovační institut (Celetná 19)
URL:https://www.prazskyinovacniinstitut.cz/udalosti/-ai-nastroje-pro-lidry-
 skol
DTSTART;TZID=Europe/Prague:20260320T130000
DTEND;TZID=Europe/Prague:20260320T160000
DTSTAMP;TZID=Europe/Bratislava:20260425T182713
END:VEVENT
END:VCALENDAR