BEGIN:VCALENDAR
VERSION:2.0
PRODID:spatie/icalendar-generator
NAME:AI v kariérovém poradenství
X-WR-CALNAME:AI v kariérovém poradenství
DESCRIPTION:AI v kariérovém poradenství
X-WR-CALDESC:AI v kariérovém poradenství
BEGIN:VEVENT
UID:80
SUMMARY:AI v kariérovém poradenství
DESCRIPTION:AI v kariérovém poradenství
LOCATION:Podnikatelské a inovační centrum hl. m. Prahy
URL:https://www.prazskyinovacniinstitut.cz/udalosti/ai-v-karierovem-poraden
 stvi
DTSTART;TZID=Europe/Prague:20251204T153000
DTEND;TZID=Europe/Prague:20251204T193000
DTSTAMP;TZID=Europe/Bratislava:20260425T132245
END:VEVENT
END:VCALENDAR