BEGIN:VCALENDAR
VERSION:2.0
PRODID:spatie/icalendar-generator
NAME:Demo Day Pražského herního akcelerátoru
X-WR-CALNAME:Demo Day Pražského herního akcelerátoru
DESCRIPTION:Demo Day Pražského herního akcelerátoru
X-WR-CALDESC:Demo Day Pražského herního akcelerátoru
BEGIN:VEVENT
UID:84
SUMMARY:Demo Day Pražského herního akcelerátoru
DESCRIPTION:Demo Day Pražského herního akcelerátoru
LOCATION:Pražský inovační institut\, Celetná 19
URL:https://www.prazskyinovacniinstitut.cz/udalosti/demo-day-prazskeho-hern
 iho-akceleratoru
DTSTART;TZID=Europe/Prague:20251204T100000
DTEND;TZID=Europe/Prague:20251204T170000
DTSTAMP;TZID=Europe/Bratislava:20260425T122142
END:VEVENT
END:VCALENDAR