BEGIN:VCALENDAR
VERSION:2.0
PRODID:spatie/icalendar-generator
NAME:EduLatté –⁠⁠⁠⁠⁠⁠ učitelské setkání vol. 3
X-WR-CALNAME:EduLatté –⁠⁠⁠⁠⁠⁠ učitelské setkání vol. 3
DESCRIPTION:EduLatté –⁠⁠⁠⁠⁠⁠ učitelské setkání vol. 3
X-WR-CALDESC:EduLatté –⁠⁠⁠⁠⁠⁠ učitelské setkání vol. 3
BEGIN:VEVENT
UID:94
SUMMARY:EduLatté –⁠⁠⁠⁠⁠⁠ učitelské setkání vol. 3
DESCRIPTION:EduLatté –⁠⁠⁠⁠⁠⁠ učitelské setkání vol. 3
LOCATION:Podnikatelské a inovační centrum hl. m. Prahy
DTSTART;TZID=Europe/Prague:20260316T163000
DTEND;TZID=Europe/Prague:20260316T183000
DTSTAMP;TZID=Europe/Bratislava:20260425T155647
END:VEVENT
END:VCALENDAR