BEGIN:VCALENDAR
VERSION:2.0
PRODID:spatie/icalendar-generator
NAME:EUDIS DEFENCE HACKATHON: TECHNOLOGIES FOR SPACE AND DEFENCE
X-WR-CALNAME:EUDIS DEFENCE HACKATHON: TECHNOLOGIES FOR SPACE AND DEFENCE
DESCRIPTION:EUDIS DEFENCE HACKATHON: TECHNOLOGIES FOR SPACE AND DEFENCE
X-WR-CALDESC:EUDIS DEFENCE HACKATHON: TECHNOLOGIES FOR SPACE AND DEFENCE
BEGIN:VEVENT
UID:37
SUMMARY:EUDIS DEFENCE HACKATHON: TECHNOLOGIES FOR SPACE AND DEFENCE
DESCRIPTION:EUDIS DEFENCE HACKATHON: TECHNOLOGIES FOR SPACE AND DEFENCE
LOCATION:TBD
URL:https://www.prazskyinovacniinstitut.cz/udalosti/eudis-defence-hackathon
 -autumn-25
DTSTART;TZID=Europe/Prague:20251017T150000
DTEND;TZID=Europe/Prague:20251019T235959
DTSTAMP;TZID=Europe/Bratislava:20260425T131100
END:VEVENT
END:VCALENDAR