BEGIN:VCALENDAR
VERSION:2.0
PRODID:spatie/icalendar-generator
NAME:Exkurze pro kariérové poradce SŠ na  ČVUT
X-WR-CALNAME:Exkurze pro kariérové poradce SŠ na  ČVUT
DESCRIPTION:Exkurze pro kariérové poradce SŠ na  ČVUT
X-WR-CALDESC:Exkurze pro kariérové poradce SŠ na  ČVUT
BEGIN:VEVENT
UID:99
SUMMARY:Exkurze pro kariérové poradce SŠ na  ČVUT
DESCRIPTION:Exkurze pro kariérové poradce SŠ na  ČVUT
LOCATION:Fakulta stavební ČVUT v Praze (Thákurova 7\, Praha 6 – Dejvic
 e)
URL:https://www.prazskyinovacniinstitut.cz/udalosti/exkurze-pro-karierove-p
 oradce-ss-na-cvut-(2-termin)
DTSTART;TZID=Europe/Prague:20260331T160000
DTEND;TZID=Europe/Prague:20260331T200000
DTSTAMP;TZID=Europe/Bratislava:20260425T172551
END:VEVENT
END:VCALENDAR