BEGIN:VCALENDAR
VERSION:2.0
PRODID:spatie/icalendar-generator
NAME:Exkurze pro kariérové poradce ZŠ na ČVUT
X-WR-CALNAME:Exkurze pro kariérové poradce ZŠ na ČVUT
DESCRIPTION:Exkurze pro kariérové poradce ZŠ na ČVUT
X-WR-CALDESC:Exkurze pro kariérové poradce ZŠ na ČVUT
BEGIN:VEVENT
UID:97
SUMMARY:Exkurze pro kariérové poradce ZŠ na ČVUT
DESCRIPTION:Exkurze pro kariérové poradce ZŠ na ČVUT
LOCATION:Fakulta stavební ČVUT v Praze (Thákurova 7\, Praha 6 – Dejvic
 e)
URL:https://www.prazskyinovacniinstitut.cz/udalosti/exkurze-pro-karierove-p
 oradce-zs-na-cvut
DTSTART;TZID=Europe/Prague:20260317T160000
DTEND;TZID=Europe/Prague:20260317T200000
DTSTAMP;TZID=Europe/Bratislava:20260425T160158
END:VEVENT
END:VCALENDAR