BEGIN:VCALENDAR
VERSION:2.0
PRODID:spatie/icalendar-generator
NAME:FEST DoToho! Den\, který vaše podnikání posune o krok.
X-WR-CALNAME:FEST DoToho! Den\, který vaše podnikání posune o krok.
DESCRIPTION:FEST DoToho! Den\, který vaše podnikání posune o krok.
X-WR-CALDESC:FEST DoToho! Den\, který vaše podnikání posune o krok.
BEGIN:VEVENT
UID:39
SUMMARY:FEST DoToho! Den\, který vaše podnikání posune o krok.
DESCRIPTION:FEST DoToho! Den\, který vaše podnikání posune o krok.
LOCATION:Uhelný mlýn\, Libčice nad Vltavou
URL:https://www.prazskyinovacniinstitut.cz/udalosti/fest-dotoho-den-ktery-v
 ase-podnikani-posune-o-krok
DTSTART;TZID=Europe/Prague:20251015T090000
DTEND;TZID=Europe/Prague:20251015T200000
DTSTAMP;TZID=Europe/Bratislava:20260425T125927
END:VEVENT
END:VCALENDAR