BEGIN:VCALENDAR
VERSION:2.0
PRODID:spatie/icalendar-generator
NAME:Jak přemýšlí Praha a jak v ní najít příležitosti
X-WR-CALNAME:Jak přemýšlí Praha a jak v ní najít příležitosti
DESCRIPTION:Jak přemýšlí Praha a jak v ní najít příležitosti
X-WR-CALDESC:Jak přemýšlí Praha a jak v ní najít příležitosti
BEGIN:VEVENT
UID:105
SUMMARY:Jak přemýšlí Praha a jak v ní najít příležitosti
DESCRIPTION:Jak přemýšlí Praha a jak v ní najít příležitosti
LOCATION:Arcibiskupské gymnázium
URL:https://www.prazskyinovacniinstitut.cz/udalosti/jak-premysli-praha-a-ja
 k-v-ni-najit-prilezitosti
DTSTART;TZID=Europe/Prague:20260327T120000
DTEND;TZID=Europe/Prague:20260327T150000
DTSTAMP;TZID=Europe/Bratislava:20260425T172736
END:VEVENT
END:VCALENDAR