BEGIN:VCALENDAR
VERSION:2.0
PRODID:spatie/icalendar-generator
NAME:Jak rozpoznat a systematicky rozvíjet nadané děti ve škole Vol. II
X-WR-CALNAME:Jak rozpoznat a systematicky rozvíjet nadané děti ve škole
  Vol. II
DESCRIPTION:Jak rozpoznat a systematicky rozvíjet nadané děti ve škole 
 Vol. II
X-WR-CALDESC:Jak rozpoznat a systematicky rozvíjet nadané děti ve škole
  Vol. II
BEGIN:VEVENT
UID:88
SUMMARY:Jak rozpoznat a systematicky rozvíjet nadané děti ve škole Vol.
  II
DESCRIPTION:Jak rozpoznat a systematicky rozvíjet nadané děti ve škole 
 Vol. II
LOCATION:Pražský inovační institut\, z.ú.
URL:https://www.prazskyinovacniinstitut.cz/udalosti/jak-rozpoznat-a-systema
 ticky-rozvijet-nadane-deti-ve-skole-vol-ii
DTSTART;TZID=Europe/Prague:20260108T140000
DTEND;TZID=Europe/Prague:20260108T170000
DTSTAMP;TZID=Europe/Bratislava:20260425T161400
END:VEVENT
END:VCALENDAR