BEGIN:VCALENDAR
VERSION:2.0
PRODID:spatie/icalendar-generator
NAME:Klub kariérových poradců #3
X-WR-CALNAME:Klub kariérových poradců #3
DESCRIPTION:Klub kariérových poradců #3
X-WR-CALDESC:Klub kariérových poradců #3
BEGIN:VEVENT
UID:101
SUMMARY:Klub kariérových poradců #3
DESCRIPTION:Klub kariérových poradců #3
LOCATION:Pražský inovační institut\, Celetná 19
URL:https://www.prazskyinovacniinstitut.cz/udalosti/klub-karierovych-poradc
 u-3
DTSTART;TZID=Europe/Prague:20260305T163000
DTEND;TZID=Europe/Prague:20260305T203000
DTSTAMP;TZID=Europe/Bratislava:20260425T155251
END:VEVENT
END:VCALENDAR