BEGIN:VCALENDAR
VERSION:2.0
PRODID:spatie/icalendar-generator
NAME:Klub kariérových poradců Praha #2
X-WR-CALNAME:Klub kariérových poradců Praha #2
DESCRIPTION:Klub kariérových poradců Praha #2
X-WR-CALDESC:Klub kariérových poradců Praha #2
BEGIN:VEVENT
UID:78
SUMMARY:Klub kariérových poradců Praha #2
DESCRIPTION:Klub kariérových poradců Praha #2
LOCATION:Pražský inovační institut
URL:https://www.prazskyinovacniinstitut.cz/udalosti/klub-karierovych-poradc
 u-praha
DTSTART;TZID=Europe/Prague:20260122T163000
DTEND;TZID=Europe/Prague:20260122T203000
DTSTAMP;TZID=Europe/Bratislava:20260425T155408
END:VEVENT
END:VCALENDAR