BEGIN:VCALENDAR
VERSION:2.0
PRODID:spatie/icalendar-generator
NAME:Launch Code Masterclass on B2B sales with Zoltan Vardy and Radek Novot
 ný\, Founder of Superface.ai
X-WR-CALNAME:Launch Code Masterclass on B2B sales with Zoltan Vardy and Rad
 ek Novotný\, Founder of Superface.ai
DESCRIPTION:Launch Code Masterclass on B2B sales with Zoltan Vardy and Rade
 k Novotný\, Founder of Superface.ai
X-WR-CALDESC:Launch Code Masterclass on B2B sales with Zoltan Vardy and Rad
 ek Novotný\, Founder of Superface.ai
BEGIN:VEVENT
UID:89
SUMMARY:Launch Code Masterclass on B2B sales with Zoltan Vardy and Radek No
 votný\, Founder of Superface.ai
DESCRIPTION:Launch Code Masterclass on B2B sales with Zoltan Vardy and Rade
 k Novotný\, Founder of Superface.ai
LOCATION:WorkLounge Příkopy
URL:https://www.prazskyinovacniinstitut.cz/udalosti/launch-code-masterclass
 -on-b2b-sales-with-zoltan-vardy-and-radek-novotny-founder-of-superfaceai
DTSTART;TZID=Europe/Prague:20260224T173000
DTEND;TZID=Europe/Prague:20260224T210000
DTSTAMP;TZID=Europe/Bratislava:20260425T155809
END:VEVENT
END:VCALENDAR