BEGIN:VCALENDAR
VERSION:2.0
PRODID:spatie/icalendar-generator
NAME:Pražský herní akcelerátor: shrnutí prvního běhu a představení
  metodiky programu
X-WR-CALNAME:Pražský herní akcelerátor: shrnutí prvního běhu a před
 stavení metodiky programu
DESCRIPTION:Pražský herní akcelerátor: shrnutí prvního běhu a předs
 tavení metodiky programu
X-WR-CALDESC:Pražský herní akcelerátor: shrnutí prvního běhu a před
 stavení metodiky programu
BEGIN:VEVENT
UID:96
SUMMARY:Pražský herní akcelerátor: shrnutí prvního běhu a představe
 ní metodiky programu
DESCRIPTION:Pražský herní akcelerátor: shrnutí prvního běhu a předs
 tavení metodiky programu
LOCATION:Podnikatelské a inovační centrum hl. m. Prahy
URL:https://www.prazskyinovacniinstitut.cz/udalosti/prazsky-herni-akcelerat
 or-shrnuti-prvniho-behu-a-predstaveni-metodiky-programu
DTSTART;TZID=Europe/Prague:20260223T150000
DTEND;TZID=Europe/Prague:20260223T170000
DTSTAMP;TZID=Europe/Bratislava:20260425T155312
END:VEVENT
END:VCALENDAR