BEGIN:VCALENDAR
VERSION:2.0
PRODID:spatie/icalendar-generator
NAME:Duševní vlastnictví AI ve vědě a výzkumu
X-WR-CALNAME:Duševní vlastnictví AI ve vědě a výzkumu
DESCRIPTION:Duševní vlastnictví AI ve vědě a výzkumu
X-WR-CALDESC:Duševní vlastnictví AI ve vědě a výzkumu
BEGIN:VEVENT
UID:90
SUMMARY:Duševní vlastnictví AI ve vědě a výzkumu
DESCRIPTION:Duševní vlastnictví AI ve vědě a výzkumu
LOCATION:Podnikatelské a inovační centrum hl. m. Prahy
URL:https://www.prazskyinovacniinstitut.cz/udalosti/rizeni-dusevniho-vlastn
 ictvi-umela-inteligence-a-etika-ve-vede-a-vyzkumu
DTSTART;TZID=Europe/Prague:20260225T090000
DTEND;TZID=Europe/Prague:20260225T170000
DTSTAMP;TZID=Europe/Bratislava:20260425T161127
END:VEVENT
END:VCALENDAR