BEGIN:VCALENDAR
VERSION:2.0
PRODID:spatie/icalendar-generator
NAME:Startupisti startupistům: Jak se co nejméně spálit?
X-WR-CALNAME:Startupisti startupistům: Jak se co nejméně spálit?
DESCRIPTION:Startupisti startupistům: Jak se co nejméně spálit?
X-WR-CALDESC:Startupisti startupistům: Jak se co nejméně spálit?
BEGIN:VEVENT
UID:36
SUMMARY:Startupisti startupistům: Jak se co nejméně spálit?
DESCRIPTION:Startupisti startupistům: Jak se co nejméně spálit?
LOCATION:Grandior Hotel Prague
URL:https://www.prazskyinovacniinstitut.cz/udalosti/startupisti-startupistu
 m-jak-se-co-nejmene-spalit
DTSTART;TZID=Europe/Prague:20250918T160000
DTEND;TZID=Europe/Prague:20250918T210000
DTSTAMP;TZID=Europe/Bratislava:20260425T055052
END:VEVENT
END:VCALENDAR