BEGIN:VCALENDAR
VERSION:2.0
PRODID:spatie/icalendar-generator
NAME:TALENT KOMPAS
X-WR-CALNAME:TALENT KOMPAS
DESCRIPTION:TALENT KOMPAS
X-WR-CALDESC:TALENT KOMPAS
BEGIN:VEVENT
UID:93
SUMMARY:TALENT KOMPAS
DESCRIPTION:TALENT KOMPAS
LOCATION:Podnikatelské a inovační centrum hl. m. Prahy
URL:https://www.prazskyinovacniinstitut.cz/udalosti/talent-kompas
DTSTART;TZID=Europe/Prague:20260305T090000
DTEND;TZID=Europe/Prague:20260306T163000
DTSTAMP;TZID=Europe/Bratislava:20260425T155927
END:VEVENT
END:VCALENDAR