BEGIN:VCALENDAR
VERSION:2.0
PRODID:spatie/icalendar-generator
NAME:Workshop - Praktické nástroje podpory nadaných na SŠ - aneb není 
 jen IVP
X-WR-CALNAME:Workshop - Praktické nástroje podpory nadaných na SŠ - ane
 b není jen IVP
DESCRIPTION:Workshop - Praktické nástroje podpory nadaných na SŠ - aneb
  není jen IVP
X-WR-CALDESC:Workshop - Praktické nástroje podpory nadaných na SŠ - ane
 b není jen IVP
BEGIN:VEVENT
UID:92
SUMMARY:Workshop - Praktické nástroje podpory nadaných na SŠ - aneb nen
 í jen IVP
DESCRIPTION:Workshop - Praktické nástroje podpory nadaných na SŠ - aneb
  není jen IVP
LOCATION:Pražský inovační institut\, z.ú.
URL:https://www.prazskyinovacniinstitut.cz/udalosti/workshop-prakticke-nast
 roje-podpory-nadanych-na-ss-aneb-neni-jen-ivp
DTSTART;TZID=Europe/Prague:20260305T140000
DTEND;TZID=Europe/Prague:20260305T180000
DTSTAMP;TZID=Europe/Bratislava:20260425T155933
END:VEVENT
END:VCALENDAR