BEGIN:VCALENDAR
VERSION:2.0
PRODID:spatie/icalendar-generator
NAME:Základní přehled výzev
X-WR-CALNAME:Základní přehled výzev
DESCRIPTION:Základní přehled výzev
X-WR-CALDESC:Základní přehled výzev
BEGIN:VEVENT
UID:40
SUMMARY:Základní přehled výzev
DESCRIPTION:Základní přehled výzev
LOCATION:Podnikatelské a inovační centrum hl. m. Prahy
URL:https://www.prazskyinovacniinstitut.cz/udalosti/zakladni-prehled-vyzev
DTSTART;TZID=Europe/Prague:20250910T090000
DTEND;TZID=Europe/Prague:20250910T170000
DTSTAMP;TZID=Europe/Bratislava:20260425T041020
END:VEVENT
END:VCALENDAR