BEGIN:VCALENDAR
VERSION:2.0
PRODID:spatie/icalendar-generator
NAME:Zvaž vědu
X-WR-CALNAME:Zvaž vědu
DESCRIPTION:Zvaž vědu
X-WR-CALDESC:Zvaž vědu
BEGIN:VEVENT
UID:91
SUMMARY:Zvaž vědu
DESCRIPTION:Zvaž vědu
LOCATION:Podnikatelské a inovační centrum hl. m. Prahy
URL:https://www.prazskyinovacniinstitut.cz/udalosti/zvaz-vedu
DTSTART;TZID=Europe/Prague:20260212T140000
DTEND;TZID=Europe/Prague:20260212T180000
DTSTAMP;TZID=Europe/Bratislava:20260425T155128
END:VEVENT
END:VCALENDAR